BEGIN:VCALENDAR
VERSION:2.0
PRODID:-//The Post - ECPv6.15.20//NONSGML v1.0//EN
CALSCALE:GREGORIAN
METHOD:PUBLISH
X-ORIGINAL-URL:https://thepost.sydney
X-WR-CALDESC:Events for The Post
REFRESH-INTERVAL;VALUE=DURATION:PT1H
X-Robots-Tag:noindex
X-PUBLISHED-TTL:PT1H
BEGIN:VTIMEZONE
TZID:Australia/Melbourne
BEGIN:STANDARD
TZOFFSETFROM:+1100
TZOFFSETTO:+1000
TZNAME:AEST
DTSTART:20240406T160000
END:STANDARD
BEGIN:DAYLIGHT
TZOFFSETFROM:+1000
TZOFFSETTO:+1100
TZNAME:AEDT
DTSTART:20241005T160000
END:DAYLIGHT
BEGIN:STANDARD
TZOFFSETFROM:+1100
TZOFFSETTO:+1000
TZNAME:AEST
DTSTART:20250405T160000
END:STANDARD
BEGIN:DAYLIGHT
TZOFFSETFROM:+1000
TZOFFSETTO:+1100
TZNAME:AEDT
DTSTART:20251004T160000
END:DAYLIGHT
BEGIN:STANDARD
TZOFFSETFROM:+1100
TZOFFSETTO:+1000
TZNAME:AEST
DTSTART:20260404T160000
END:STANDARD
BEGIN:DAYLIGHT
TZOFFSETFROM:+1000
TZOFFSETTO:+1100
TZNAME:AEDT
DTSTART:20261003T160000
END:DAYLIGHT
END:VTIMEZONE
BEGIN:VEVENT
DTSTART;TZID=Australia/Melbourne:20250121T200000
DTEND;TZID=Australia/Melbourne:20250121T220000
DTSTAMP:20260422T214646
CREATED:20241203T015132Z
LAST-MODIFIED:20241203T015132Z
UID:2883-1737489600-1737496800@thepost.sydney
SUMMARY:Beyond the School Gates Empowering Your Child's School Journey
DESCRIPTION:Presented by Nicole Nolan from WiseLearn Education \nJoin Nicole for a unique opportunity to explore tools and resources that extend beyond the typical school discussions. This workshop is designed to equip parents with strategies that truly support their child’s adjustment to school life\, going beyond the practicalities of the first few days. \nLed by Nicole Nolan\, an educator with nearly 30 years of experience in teaching and leadership\, this workshop utilises her vast expertise with children and families during their crucial early school years. Nicole’s deep background in social and emotional learning integration\, along with her qualifications in psychology and communications\, are combined with her passion for quality literature\, offering a transformative framework to help children effectively understand and regulate their emotions. \nNicole believes in fostering creativity and connection\, bringing together innovative and engaging tools thatcaptivate and inspire young learners. By creating a learning environment that is both fun and enriching\, she empowers parents and educators to connect deeply with their children\, enhancing their ability to thrive in school and beyond. \nFind Out More
URL:https://thepost.sydney/event/beyond-the-school-gates-empowering-your-childs-school-journey/
LOCATION:Castle Hill RSL\, 77 Castle St\, Castle Hill\, NSW\, 2154\, Australia
CATEGORIES:Workshop for Parents
ATTACH;FMTTYPE=image/png:https://thepost.sydney/wp-content/uploads/2024/12/Aesthetic-Moodboard-Heart-Shape-Frame-Photo-Collage_online-png.avif
ORGANIZER;CN="Wiselearn Education":MAILTO:nicole@wiselearn-ed.com.au
END:VEVENT
END:VCALENDAR